BEGIN:VCALENDAR
VERSION:2.0
PRODID:-//Pikes Peak Senior News - ECPv6.15.11//NONSGML v1.0//EN
CALSCALE:GREGORIAN
METHOD:PUBLISH
X-ORIGINAL-URL:https://pikespeakseniornews.com
X-WR-CALDESC:Events for Pikes Peak Senior News
REFRESH-INTERVAL;VALUE=DURATION:PT1H
X-Robots-Tag:noindex
X-PUBLISHED-TTL:PT1H
BEGIN:VTIMEZONE
TZID:UTC
BEGIN:STANDARD
TZOFFSETFROM:+0000
TZOFFSETTO:+0000
TZNAME:UTC
DTSTART:20160101T000000
END:STANDARD
END:VTIMEZONE
BEGIN:VEVENT
DTSTART;VALUE=DATE:20170414
DTEND;VALUE=DATE:20170415
DTSTAMP:20260421T090909
CREATED:20170404T184642Z
LAST-MODIFIED:20170404T184642Z
UID:116-1492128000-1492128000@pikespeakseniornews.com
SUMMARY:Good Friday
DESCRIPTION:
URL:https://pikespeakseniornews.com/event/good-friday/
END:VEVENT
BEGIN:VEVENT
DTSTART;TZID=UTC:20170214T080000
DTEND;TZID=UTC:20170214T170000
DTSTAMP:20260421T090909
CREATED:20170126T211840Z
LAST-MODIFIED:20170126T212225Z
UID:45-1487059200-1487091600@pikespeakseniornews.com
SUMMARY:Valentines Day
DESCRIPTION:
URL:https://pikespeakseniornews.com/event/valentines-day/
LOCATION:Test Venue
CATEGORIES:Networking Event
END:VEVENT
BEGIN:VEVENT
DTSTART;TZID=UTC:20170130T080000
DTEND;TZID=UTC:20170130T170000
DTSTAMP:20260421T090909
CREATED:20170126T211800Z
LAST-MODIFIED:20170126T211800Z
UID:43-1485763200-1485795600@pikespeakseniornews.com
SUMMARY:Test Event
DESCRIPTION:This is a test
URL:https://pikespeakseniornews.com/event/test-event/
END:VEVENT
END:VCALENDAR